BEGIN:VCALENDAR
VERSION:2.0
PRODID:-//Omaha the Bat Dog - ECPv6.15.20//NONSGML v1.0//EN
CALSCALE:GREGORIAN
METHOD:PUBLISH
X-WR-CALNAME:Omaha the Bat Dog
X-ORIGINAL-URL:https://omahathebatdog.com
X-WR-CALDESC:Events for Omaha the Bat Dog
REFRESH-INTERVAL;VALUE=DURATION:PT1H
X-Robots-Tag:noindex
X-PUBLISHED-TTL:PT1H
BEGIN:VTIMEZONE
TZID:America/Los_Angeles
BEGIN:DAYLIGHT
TZOFFSETFROM:-0800
TZOFFSETTO:-0700
TZNAME:PDT
DTSTART:20250309T100000
END:DAYLIGHT
BEGIN:STANDARD
TZOFFSETFROM:-0700
TZOFFSETTO:-0800
TZNAME:PST
DTSTART:20251102T090000
END:STANDARD
BEGIN:DAYLIGHT
TZOFFSETFROM:-0800
TZOFFSETTO:-0700
TZNAME:PDT
DTSTART:20260308T100000
END:DAYLIGHT
BEGIN:STANDARD
TZOFFSETFROM:-0700
TZOFFSETTO:-0800
TZNAME:PST
DTSTART:20261101T090000
END:STANDARD
BEGIN:DAYLIGHT
TZOFFSETFROM:-0800
TZOFFSETTO:-0700
TZNAME:PDT
DTSTART:20270314T100000
END:DAYLIGHT
BEGIN:STANDARD
TZOFFSETFROM:-0700
TZOFFSETTO:-0800
TZNAME:PST
DTSTART:20271107T090000
END:STANDARD
END:VTIMEZONE
BEGIN:VEVENT
DTSTART;TZID=America/Los_Angeles:20260607T173000
DTEND;TZID=America/Los_Angeles:20260607T203000
DTSTAMP:20260423T213244
CREATED:20260419T000450Z
LAST-MODIFIED:20260419T151645Z
UID:713-1780853400-1780864200@omahathebatdog.com
SUMMARY:Omaha the Bat Dog at the Orange County Riptide Game 6-7-2026
DESCRIPTION:Come see Omaha the Bat Dog at the Orange County Riptide Game 6-7-2026. Omaha the Bat Dog will retrieve bats for OC Riptide players twice each inning. The Riptide hosts the San Diego Waves\, an affiliate of the California Collegiate League. \nOmaha the Bat Dog will retrieve bats on the first batted ball into play and the third out of the first through sixth or seventh innings. (If the third out is a strikeout\, caught stealing or a pick-off play\, Omaha will not retrieve that bat.) \nThe Orange County Riptide has been a full member affiliate of the California Collegiate League since 2016. 2026 marks Omaha the Bat Dog’s third full season with the OC Riptide as their official bat dog. \nOmaha made her debut with the OC Riptide June 9\, 2024 and soon became a fan favorite with her adorable and hilarious antics. \nThe Orange County Riptide is a wood bat\, summer collegiate baseball organization. The Riptide competes yearly from June through july each summer. Established in 2015\, the OC Riptide provides the Orange County community with a family-friendly and affordable sports entertainment option during the summer months. \nCompeting in the California Collegiate League (CCL)\, the Orange County Riptide won the CCL Championship in 2017. The OC Riptide has appeared in the CCL Playoffs seven out of the last eight seasons. \nThe OC Riptide has produced numerous draft picks and players who have gone on to play professionally. Five Riptide alumni have advanced all the way to Major League Baseball including Caleb Kilian\, Dominic Fletcher\, Trey Lipscomb\, Hunter Bigge and Eric Wagaman. 2026 marks the seventh season the OC Riptide has played home games at the Great Park in Irvine\, California.
URL:https://omahathebatdog.com/appearance/omaha-the-bat-dog-at-the-orange-county-riptide-game-6-7-2026/
LOCATION:Great Park\, 8412 Great Park Blvd\, Irvine\, CA\, 92618\, United States
CATEGORIES:Baseball Game,Orange County Riptide
ATTACH;FMTTYPE=image/jpeg:https://omahathebatdog.com/wp-content/uploads/2026/04/Riptide_Waves.jpg
ORGANIZER;CN="OC Riptide":MAILTO:riptidebaseballoc@gmail.com
END:VEVENT
END:VCALENDAR