BEGIN:VCALENDAR
VERSION:2.0
PRODID:-//Omaha the Bat Dog - ECPv6.15.20//NONSGML v1.0//EN
CALSCALE:GREGORIAN
METHOD:PUBLISH
X-WR-CALNAME:Omaha the Bat Dog
X-ORIGINAL-URL:https://omahathebatdog.com
X-WR-CALDESC:Events for Omaha the Bat Dog
REFRESH-INTERVAL;VALUE=DURATION:PT1H
X-Robots-Tag:noindex
X-PUBLISHED-TTL:PT1H
BEGIN:VTIMEZONE
TZID:America/Los_Angeles
BEGIN:DAYLIGHT
TZOFFSETFROM:-0800
TZOFFSETTO:-0700
TZNAME:PDT
DTSTART:20250309T100000
END:DAYLIGHT
BEGIN:STANDARD
TZOFFSETFROM:-0700
TZOFFSETTO:-0800
TZNAME:PST
DTSTART:20251102T090000
END:STANDARD
BEGIN:DAYLIGHT
TZOFFSETFROM:-0800
TZOFFSETTO:-0700
TZNAME:PDT
DTSTART:20260308T100000
END:DAYLIGHT
BEGIN:STANDARD
TZOFFSETFROM:-0700
TZOFFSETTO:-0800
TZNAME:PST
DTSTART:20261101T090000
END:STANDARD
BEGIN:DAYLIGHT
TZOFFSETFROM:-0800
TZOFFSETTO:-0700
TZNAME:PDT
DTSTART:20270314T100000
END:DAYLIGHT
BEGIN:STANDARD
TZOFFSETFROM:-0700
TZOFFSETTO:-0800
TZNAME:PST
DTSTART:20271107T090000
END:STANDARD
END:VTIMEZONE
BEGIN:VTIMEZONE
TZID:UTC
BEGIN:STANDARD
TZOFFSETFROM:+0000
TZOFFSETTO:+0000
TZNAME:UTC
DTSTART:20250101T000000
END:STANDARD
END:VTIMEZONE
BEGIN:VEVENT
DTSTART;TZID=America/Los_Angeles:20260513T180500
DTEND;TZID=America/Los_Angeles:20260513T220000
DTSTAMP:20260423T215835
CREATED:20260418T191256Z
LAST-MODIFIED:20260419T152016Z
UID:674-1778695500-1778709600@omahathebatdog.com
SUMMARY:Omaha the Bat Dog at the Lake Elsinore Storm Game 5-13-2026
DESCRIPTION:Come see Omaha the Bat Dog at the Lake Elsinore Storm game 5-13-2026. Omaha the Bat Dog will retrieve bats for Lake Elsinore Storm players twice each inning. The Storm hosts the Rancho Cucamonga Quakes\, the Class-A affiliate of the Los Angeles Angels. \nOmaha the Bat Dog will retrieve bats on the first batted ball into play and the third out of the first through sixth or seventh innings. (If the third out is a strikeout\, caught stealing or a pick-off play\, Omaha will not retrieve that bat.) \nThe Lake Elsinore Storm have been the Minor League Baseball (MiLB) Class-A affiliate of the San Diego Padres since 2001. 2026 marks Omaha the Bat Dog’s second full season with the Lake Elsinore Storm as their official bat dog. \nThis long-standing partnership represents over two decades of player development in the California League. Some notable Storm alumni include Jake Peavy\, Chase Headley\, Corey Kluber and Jackson Merrill.
URL:https://omahathebatdog.com/appearance/omaha-the-bat-dog-at-the-lake-elsinore-storm-game-5-13-2026/
LOCATION:CA
CATEGORIES:Baseball Game,Lake Elsinore Storm
ATTACH;FMTTYPE=image/jpeg:https://omahathebatdog.com/wp-content/uploads/2026/02/Storm_Quakes_Square.jpg
END:VEVENT
BEGIN:VEVENT
DTSTART;TZID=America/Los_Angeles:20260425T184500
DTEND;TZID=America/Los_Angeles:20260425T230000
DTSTAMP:20260423T215835
CREATED:20260407T044445Z
LAST-MODIFIED:20260419T152040Z
UID:660-1777142700-1777158000@omahathebatdog.com
SUMMARY:Omaha the Bat Dog at the Lake Elsinore Storm Game 4-25-2026
DESCRIPTION:Come see Omaha the Bat Dog at the Lake Elsinore Storm game 4-25-2026. Omaha the Bat Dog will retrieve bats for Lake Elsinore Storm players twice each inning. The Storm hosts the Visalia Rawhide\, the Class-A affiliate of the Arizona Diamondbacks. \nOmaha the Bat Dog will retrieve bats on the first batted ball into play and the third out of the first through sixth or seventh innings. (If the third out is a strikeout\, caught stealing or a pick-off play\, Omaha will not retrieve that bat.) \nThe Lake Elsinore Storm have been the Minor League Baseball (MiLB) Class-A affiliate of the San Diego Padres since 2001. 2026 marks Omaha the Bat Dog’s second full season with the Lake Elsinore Storm as their official bat dog. \nThis long-standing partnership represents over two decades of player development in the California League. Some notable Storm alumni include Jake Peavy\, Chase Headley\, Corey Kluber and Jackson Merrill.
URL:https://omahathebatdog.com/appearance/omaha-the-bat-dog-at-the-lake-elsinore-storm-game-4-25-2026-2/
LOCATION:Lake Elsinore Diamond\, 500 Diamond Dr.\, Lake Elsinore\, CA\, 92530\, United States
CATEGORIES:Baseball Game,Lake Elsinore Storm
ATTACH;FMTTYPE=image/jpeg:https://omahathebatdog.com/wp-content/uploads/2026/04/Storm__Rawhide_Square.jpg
END:VEVENT
BEGIN:VEVENT
DTSTART;TZID=America/Los_Angeles:20260424T184500
DTEND;TZID=America/Los_Angeles:20260424T220000
DTSTAMP:20260423T215835
CREATED:20260407T043501Z
LAST-MODIFIED:20260419T152125Z
UID:657-1777056300-1777068000@omahathebatdog.com
SUMMARY:Omaha the Bat Dog at the Lake Elsinore Storm Game 4-24-2026
DESCRIPTION:Come see Omaha the Bat Dog at the Lake Elsinore Storm game 4-24-2026. Omaha the Bat Dog will retrieve bats for Lake Elsinore Storm players twice each inning. The Storm hosts the Visalia Rawhide\, the Class-A affiliate of the Arizona Diamondbacks. \nOmaha the Bat Dog will retrieve bats on the first batted ball into play and the third out of the first through sixth or seventh innings. (If the third out is a strikeout\, caught stealing or a pick-off play\, Omaha will not retrieve that bat.) \nThe Lake Elsinore Storm have been the Minor League Baseball (MiLB) Class-A affiliate of the San Diego Padres since 2001. 2026 marks Omaha the Bat Dog’s second full season with the Lake Elsinore Storm as their official bat dog. \nThis long-standing partnership represents over two decades of player development in the California League. Some notable Storm alumni include Jake Peavy\, Chase Headley\, Corey Kluber and Jackson Merrill.
URL:https://omahathebatdog.com/appearance/omaha-the-bat-dog-at-the-lake-elsinore-storm-game-4-24-2026/
LOCATION:Lake Elsinore Diamond\, 500 Diamond Dr.\, Lake Elsinore\, CA\, 92530\, United States
CATEGORIES:Baseball Game,Lake Elsinore Storm
ATTACH;FMTTYPE=image/jpeg:https://omahathebatdog.com/wp-content/uploads/2026/04/Storm__Rawhide_Square.jpg
END:VEVENT
BEGIN:VEVENT
DTSTART;TZID=America/Los_Angeles:20260422T180500
DTEND;TZID=America/Los_Angeles:20260422T220000
DTSTAMP:20260423T215835
CREATED:20260407T042623Z
LAST-MODIFIED:20260419T152144Z
UID:653-1776881100-1776895200@omahathebatdog.com
SUMMARY:Omaha the Bat Dog at the Lake Elsinore Storm Game 4-22-2026
DESCRIPTION:Come see Omaha the Bat Dog at the Lake Elsinore Storm game 4-22-2026. Omaha the Bat Dog will retrieve bats for Lake Elsinore Storm players twice each inning. The Storm hosts the Visalia Rawhide\, the Class-A affiliate of the Arizona Diamondbacks. \nOmaha the Bat Dog will retrieve bats on the first batted ball into play and the third out of the first through sixth or seventh innings. (If the third out is a strikeout\, caught stealing or a pick-off play\, Omaha will not retrieve that bat.) \nThe Lake Elsinore Storm have been the Minor League Baseball (MiLB) Class-A affiliate of the San Diego Padres since 2001. 2026 marks Omaha the Bat Dog’s second full season with the Lake Elsinore Storm as their official bat dog. \nThis long-standing partnership represents over two decades of player development in the California League. Some notable Storm alumni include Jake Peavy\, Chase Headley\, Corey Kluber and Jackson Merrill.
URL:https://omahathebatdog.com/appearance/omaha-the-bat-dog-at-the-lake-elsinore-storm-game-4-22-2026/
LOCATION:Lake Elsinore Diamond\, 500 Diamond Dr.\, Lake Elsinore\, CA\, 92530\, United States
CATEGORIES:Baseball Game,Lake Elsinore Storm
ATTACH;FMTTYPE=image/jpeg:https://omahathebatdog.com/wp-content/uploads/2026/04/Storm__Rawhide_Square.jpg
END:VEVENT
BEGIN:VEVENT
DTSTART;TZID=America/Los_Angeles:20260411T184500
DTEND;TZID=America/Los_Angeles:20260411T224500
DTSTAMP:20260423T215835
CREATED:20260405T142907Z
LAST-MODIFIED:20260419T152202Z
UID:646-1775933100-1775947500@omahathebatdog.com
SUMMARY:Omaha the Bat Dog at the Lake Elsinore Storm Game 4-11-2026
DESCRIPTION:Come see Omaha the Bat Dog at the Lake Elsinore Storm game 4-11-2026. Omaha will retrieve bats for Lake Elsinore Storm players twice each inning. The Storm hosts the Rancho Cucamonga Quakes\, the Class-A affiliate of the Los Angeles Angels. \nOmaha the Bat Dog will retrieve bats on the first batted ball into play and the third out of the first through sixth or seventh innings. (If the third out is a strikeout\, caught stealing or a pick-off play\, Omaha will not retrieve that bat.) \nThe Lake Elsinore Storm have been the Minor League Baseball (MiLB) Class-A affiliate of the San Diego Padres since 2001. 2026 marks Omaha the Bat Dog’s second full season with the Lake Elsinore Storm as their official bat dog. \nThis long-standing partnership represents over two decades of player development in the California League. Some notable Storm alumni include Jake Peavy\, Chase Headley\, Corey Kluber and Jackson Merrill.
URL:https://omahathebatdog.com/appearance/omaha-the-bat-dog-at-the-lake-elsinore-storm-game-4-11-2026/
LOCATION:Lake Elsinore Diamond\, 500 Diamond Dr.\, Lake Elsinore\, CA\, 92530\, United States
CATEGORIES:Baseball Game,Lake Elsinore Storm
ATTACH;FMTTYPE=image/jpeg:https://omahathebatdog.com/wp-content/uploads/2026/02/Storm_Quakes_Square.jpg
END:VEVENT
BEGIN:VEVENT
DTSTART;TZID=America/Los_Angeles:20260410T184500
DTEND;TZID=America/Los_Angeles:20260410T220000
DTSTAMP:20260423T215835
CREATED:20260219T194735Z
LAST-MODIFIED:20260419T152236Z
UID:575-1775846700-1775858400@omahathebatdog.com
SUMMARY:Omaha the Bat Dog at the Lake Elsinore Storm Game 4-10-2026
DESCRIPTION:Come see Omaha the Bat Dog at the Lake Elsinore Storm game 4-10-2026. Omaha be retrieving bats for Lake Elsinore Storm players twice each inning as the Storm hosts the Rancho Cucamonga Quakes\, the Class-A affiliate of the Los Angeles Angels. \nOmaha the Bat Dog will retrieve bats on the first batted ball into play and the third out of the first through sixth or seventh innings. (If the third out is a strikeout\, caught stealing or a pick-off play\, I will not retrieve that bat.) 2026 marks Omaha the Bat Dog’s second full season with the Lake Elsinore Storm as their official bat dog. \nThe Lake Elsinore Storm have been the Minor League Baseball (MiLB) Class-A affiliate of the San Diego Padres since 2001. \nThis long-standing partnership represents over two decades of player development in the California League. Some notable Storm alumni include Jake Peavy\, Chase Headley\, Corey Kluber and Jackson Merrill.
URL:https://omahathebatdog.com/appearance/omaha-the-bat-dog-at-the-lake-elsinore-storm-game-4-10-2026/
LOCATION:Lake Elsinore Diamond\, 500 Diamond Dr.\, Lake Elsinore\, CA\, 92530\, United States
CATEGORIES:Baseball Game,Lake Elsinore Storm
ATTACH;FMTTYPE=image/jpeg:https://omahathebatdog.com/wp-content/uploads/2026/02/Storm_Quakes_Square.jpg
END:VEVENT
BEGIN:VEVENT
DTSTART;TZID=UTC:20260408T180500
DTEND;TZID=UTC:20260408T220000
DTSTAMP:20260423T215835
CREATED:20260219T192408Z
LAST-MODIFIED:20260419T050901Z
UID:564-1775671500-1775685600@omahathebatdog.com
SUMMARY:Lake Elsinore Storm vs. Rancho Cucamonga Quakes 4-8-2026
DESCRIPTION:Come see me at the Lake Elsinore Storm vs. Rancho Cucamonga Quakes game. I will be retrieving bats for Storm players twice each inning. \nI will retrieve bats on the first batted ball into play and the third out of the first through sixth innings. (If the third out is a strikeout\, caught stealing or a pick-off play\, I will not retrieve that bat.) \nIt’s also Wednesday and that means it is the Lake Elsinore Storm’s weekly promotion\, Wildlife Wednesday. Unlike a bark in the park\, on Wildlife Wednesdays\, the Storm wants EVEN MORE pets to join in on the fun! \nThat means every well-behaved cat\, donkey\, iguana\, and gerbil is welcome in. Pets need a $1 ticket with proceeds going to Thunder Cares and a waiver signed at the Ticket office. \n(Lake Elsinore Diamond Stadium has the right to refuse entry or remove any dangerous or disruptive animals. Every pet owner is responsible for the safety and cleanliness of their accompanying pet.) \nThe Lake Elsinore Storm have been the Minor League Baseball (MiLB) Class-A affiliate of the San Diego Padres since 2001. \nThis long-standing partnership represents over two decades of player development in the California League. Some notable Storm alumni include Jake Peavy\, Chase Headley\, Corey Kluber and Jackson Merrill.
URL:https://omahathebatdog.com/appearance/lake-elsinore-storm-vs-rancho-cucamonga-quakes-4-8-2026/
LOCATION:Lake Elsinore Diamond\, 500 Diamond Dr.\, Lake Elsinore\, CA\, 92530\, United States
CATEGORIES:Baseball Game,Lake Elsinore Storm
ATTACH;FMTTYPE=image/jpeg:https://omahathebatdog.com/wp-content/uploads/2026/02/Omaha_Wildlife_Weds.jpg
END:VEVENT
BEGIN:VEVENT
DTSTART;TZID=UTC:20260407T180500
DTEND;TZID=UTC:20260407T220000
DTSTAMP:20260423T215835
CREATED:20260219T182248Z
LAST-MODIFIED:20260419T050950Z
UID:555-1775585100-1775599200@omahathebatdog.com
SUMMARY:Lake Elsinore Storm Home Opener 2026
DESCRIPTION:Come see Omaha the Bat Dog at the Lake Elsinore Storm Home Opener 2026! \nIt’s the Lake Elsinore Storm’s Home Opener for the 2026 season. Come see me retrieve bats for my second full season with the San Diego Padres Class-A affiliate\, the Lake Elsinore Storm! \nIt’s also long-time host and Emcee Kaz Egan’s farewell game as he moves on to take over the host duties for the Firefighters of Banana Ball. It’s surely a game you will remember for a long time. The Storm open their home series vs. rival the Rancho Cucamonga Quakes. \nThe Lake Elsinore Storm have been the Minor League Baseball (MiLB) Class-A affiliate of the San Diego Padres since 2001. 2026 marks Omaha the Bat Dog’s second full season with the Lake Elsinore Storm as their official bat dog.\nThis long-standing partnership represents over two decades of player development in the California League. Some notable Storm alumni include Jake Peavy\, Chase Headley\, Corey Kluber and Jackson Merrill.
URL:https://omahathebatdog.com/appearance/lake-elsinore-storm-home-opener-2026/
LOCATION:Lake Elsinore Diamond\, 500 Diamond Dr.\, Lake Elsinore\, CA\, 92530\, United States
CATEGORIES:Baseball Game,Lake Elsinore Storm
ATTACH;FMTTYPE=image/jpeg:https://omahathebatdog.com/wp-content/uploads/2026/02/Omaha_Storm_Logo_350.jpg
END:VEVENT
BEGIN:VEVENT
DTSTART;TZID=UTC:20260228T170000
DTEND;TZID=UTC:20260228T210000
DTSTAMP:20260423T215835
CREATED:20260212T150222Z
LAST-MODIFIED:20260219T162106Z
UID:511-1772298000-1772312400@omahathebatdog.com
SUMMARY:Temecula FC 2026 Home Opener
DESCRIPTION:Come see me take penalty kicks at the Temecula FC 2026 Opening Day Game! \nDepending on how well I perform at the Friendly match on February 21\, I may be taking penalty kicks from fans on the concourse or I could be taking penalty kicks at mid-field at halftime. \nTemecula FC is tring to break an attendance record of getting 1\,000+ to the game. Hopefully you can come out and be a part of history.
URL:https://omahathebatdog.com/appearance/temecula-fc-2026-home-opener/
LOCATION:Chaparral High School\, 27215 Nicolas Rd.\, Temecula\, CA\, 92591\, United States
CATEGORIES:Soccer Game
ATTACH;FMTTYPE=image/jpeg:https://omahathebatdog.com/wp-content/uploads/2026/02/Temecula_FC__16x9_356x200.jpg
END:VEVENT
BEGIN:VEVENT
DTSTART;TZID=UTC:20260227T100000
DTEND;TZID=UTC:20260227T113000
DTSTAMP:20260423T215835
CREATED:20260219T003410Z
LAST-MODIFIED:20260219T162601Z
UID:537-1772186400-1772191800@omahathebatdog.com
SUMMARY:Temecula Elementary School Demonstration
DESCRIPTION:My first school appearance will be a Temecula Elementary School Demonstration. \nI’ll demonstrating how Service Dogs come in all shapes and sizes. I will be appearing at Temecula Elementary School showing off my bat retrieval skills and taking penalty kicks as part of a learning curriculum all about Service Dogs.
URL:https://omahathebatdog.com/appearance/temecula-elementary-school-demonstration/
LOCATION:Temecula Elementary School\, 41951 Moraga Rd\, Temecula\, CA\, 92591\, United States
CATEGORIES:School Visit
ATTACH;FMTTYPE=image/webp:https://omahathebatdog.com/wp-content/uploads/2026/02/TemeculaElementarySchoolPrimaryThumbnailImage.webp
END:VEVENT
BEGIN:VEVENT
DTSTART;TZID=UTC:20260221T190000
DTEND;TZID=UTC:20260221T210000
DTSTAMP:20260423T215835
CREATED:20260218T234820Z
LAST-MODIFIED:20260219T162219Z
UID:528-1771700400-1771707600@omahathebatdog.com
SUMMARY:Temecula FC 2026 Pre-Season Friendly
DESCRIPTION:Come see me take penalty kicks at the Temecula FC 2026 Pre-Season Friendly. \nIn order to prepare for the season opener on February 28\, 2026\, Temecula FC will host an exhibition friendly at Patricia H. Birdsall Sports Park in Temecula. \n(Please note this will not be held at the normal home field for Temecula FC.) \nThis will be my first time taking penalty kicks in a controlled / organized environment. Be there to see how I do.
URL:https://omahathebatdog.com/appearance/temecula-fc-2026-pre-season-friendly/
LOCATION:Patricia H. Birdsall Sports Park\, 32380 Deer Hollow Way\, Temecula\, CA\, 92592\, United States
CATEGORIES:Soccer Game
ATTACH;FMTTYPE=image/jpeg:https://omahathebatdog.com/wp-content/uploads/2026/02/Temecula_FC__16x9_356x200.jpg
END:VEVENT
END:VCALENDAR