BEGIN:VCALENDAR
VERSION:2.0
PRODID:-//Omaha the Bat Dog - ECPv6.15.20//NONSGML v1.0//EN
CALSCALE:GREGORIAN
METHOD:PUBLISH
X-ORIGINAL-URL:https://omahathebatdog.com
X-WR-CALDESC:Events for Omaha the Bat Dog
REFRESH-INTERVAL;VALUE=DURATION:PT1H
X-Robots-Tag:noindex
X-PUBLISHED-TTL:PT1H
BEGIN:VTIMEZONE
TZID:UTC
BEGIN:STANDARD
TZOFFSETFROM:+0000
TZOFFSETTO:+0000
TZNAME:UTC
DTSTART:20250101T000000
END:STANDARD
END:VTIMEZONE
BEGIN:VEVENT
DTSTART;TZID=UTC:20260725T184500
DTEND;TZID=UTC:20260725T220000
DTSTAMP:20260424T074524
CREATED:20260419T200408Z
LAST-MODIFIED:20260419T200409Z
UID:795-1785005100-1785016800@omahathebatdog.com
SUMMARY:Omaha the Bat Dog at the Lake Elsinore Storm Game 7-25-2026
DESCRIPTION:Come see Omaha the Bat Dog at the Lake Elsinore Storm game 7-25-2026. Omaha the Bat Dog will retrieve bats for Lake Elsinore Storm players twice each inning. The Storm hosts the Visalia Rawhidethe Class-A affiliate of the Arizona Diamondbacks. \nOmaha the Bat Dog will retrieve bats on the first batted ball into play and the third out of the first through sixth or seventh innings. (If the third out is a strikeout\, caught stealing or a pick-off play\, Omaha will not retrieve that bat.) \nThe Lake Elsinore Storm have been the Minor League Baseball (MiLB) Class-A affiliate of the San Diego Padres since 2001. 2026 marks Omaha the Bat Dog’s second full season with the Lake Elsinore Storm as their official bat dog. \nThis long-standing partnership represents over two decades of player development in the California League. Some notable Storm alumni include Jake Peavy\, Chase Headley\, Corey Kluber and Jackson Merrill.
URL:https://omahathebatdog.com/appearance/omaha-the-bat-dog-at-the-lake-elsinore-storm-game-7-25-2026/
LOCATION:Lake Elsinore Diamond\, 500 Diamond Dr.\, Lake Elsinore\, CA\, 92530\, United States
CATEGORIES:Baseball Game,Lake Elsinore Storm
ATTACH;FMTTYPE=image/jpeg:https://omahathebatdog.com/wp-content/uploads/2026/04/Storm__Rawhide_Square.jpg
END:VEVENT
END:VCALENDAR