BEGIN:VCALENDAR
VERSION:2.0
PRODID:-//Omaha the Bat Dog - ECPv6.15.20//NONSGML v1.0//EN
CALSCALE:GREGORIAN
METHOD:PUBLISH
X-WR-CALNAME:Omaha the Bat Dog
X-ORIGINAL-URL:https://omahathebatdog.com
X-WR-CALDESC:Events for Omaha the Bat Dog
REFRESH-INTERVAL;VALUE=DURATION:PT1H
X-Robots-Tag:noindex
X-PUBLISHED-TTL:PT1H
BEGIN:VTIMEZONE
TZID:America/Los_Angeles
BEGIN:DAYLIGHT
TZOFFSETFROM:-0800
TZOFFSETTO:-0700
TZNAME:PDT
DTSTART:20250309T100000
END:DAYLIGHT
BEGIN:STANDARD
TZOFFSETFROM:-0700
TZOFFSETTO:-0800
TZNAME:PST
DTSTART:20251102T090000
END:STANDARD
BEGIN:DAYLIGHT
TZOFFSETFROM:-0800
TZOFFSETTO:-0700
TZNAME:PDT
DTSTART:20260308T100000
END:DAYLIGHT
BEGIN:STANDARD
TZOFFSETFROM:-0700
TZOFFSETTO:-0800
TZNAME:PST
DTSTART:20261101T090000
END:STANDARD
BEGIN:DAYLIGHT
TZOFFSETFROM:-0800
TZOFFSETTO:-0700
TZNAME:PDT
DTSTART:20270314T100000
END:DAYLIGHT
BEGIN:STANDARD
TZOFFSETFROM:-0700
TZOFFSETTO:-0800
TZNAME:PST
DTSTART:20271107T090000
END:STANDARD
END:VTIMEZONE
BEGIN:VTIMEZONE
TZID:UTC
BEGIN:STANDARD
TZOFFSETFROM:+0000
TZOFFSETTO:+0000
TZNAME:UTC
DTSTART:20250101T000000
END:STANDARD
END:VTIMEZONE
BEGIN:VEVENT
DTSTART;TZID=America/Los_Angeles:20260722T180500
DTEND;TZID=America/Los_Angeles:20260722T220000
DTSTAMP:20260423T232235
CREATED:20260419T194542Z
LAST-MODIFIED:20260419T194544Z
UID:789-1784743500-1784757600@omahathebatdog.com
SUMMARY:Omaha the Bat Dog at the Lake Elsinore Storm Game 7-22-2026
DESCRIPTION:Come see Omaha the Bat Dog at the Lake Elsinore Storm game 7-22-2026. Omaha the Bat Dog will retrieve bats for Lake Elsinore Storm players twice each inning. The Storm hosts the Visalia Rawhide\, the Class-A affiliate of the Arizona Diamondbacks. \nOmaha the Bat Dog will retrieve bats on the first batted ball into play and the third out of the first through sixth or seventh innings. (If the third out is a strikeout\, caught stealing or a pick-off play\, Omaha will not retrieve that bat.) \nThe Lake Elsinore Storm have been the Minor League Baseball (MiLB) Class-A affiliate of the San Diego Padres since 2001. 2026 marks Omaha the Bat Dog’s second full season with the Lake Elsinore Storm as their official bat dog. \nThis long-standing partnership represents over two decades of player development in the California League. Some notable Storm alumni include Jake Peavy\, Chase Headley\, Corey Kluber and Jackson Merrill.
URL:https://omahathebatdog.com/appearance/omaha-the-bat-dog-at-the-lake-elsinore-storm-game-7-22-2026/
LOCATION:Lake Elsinore Diamond\, 500 Diamond Dr.\, Lake Elsinore\, CA\, 92530\, United States
CATEGORIES:Baseball Game,Lake Elsinore Storm
ATTACH;FMTTYPE=image/jpeg:https://omahathebatdog.com/wp-content/uploads/2026/04/Storm__Rawhide_Square.jpg
END:VEVENT
BEGIN:VEVENT
DTSTART;TZID=America/Los_Angeles:20260724T184500
DTEND;TZID=America/Los_Angeles:20260724T220000
DTSTAMP:20260423T232235
CREATED:20260419T195841Z
LAST-MODIFIED:20260419T201935Z
UID:793-1784918700-1784930400@omahathebatdog.com
SUMMARY:Omaha the Bat Dog at the Lake Elsinore Storm Game 7-24-2026
DESCRIPTION:Come see Omaha the Bat Dog at the Lake Elsinore Storm game 7-24-2026. Omaha the Bat Dog will retrieve bats for Lake Elsinore Storm players twice each inning. The Storm hosts the Visalia Rawhide\, the Class-A affiliate of the Arizona Diamondbacks. \nOmaha the Bat Dog will retrieve bats on the first batted ball into play and the third out of the first through sixth or seventh innings. (If the third out is a strikeout\, caught stealing or a pick-off play\, Omaha will not retrieve that bat.) \nThe Lake Elsinore Storm have been the Minor League Baseball (MiLB) Class-A affiliate of the San Diego Padres since 2001. 2026 marks Omaha the Bat Dog’s second full season with the Lake Elsinore Storm as their official bat dog. \nThis long-standing partnership represents over two decades of player development in the California League. Some notable Storm alumni include Jake Peavy\, Chase Headley\, Corey Kluber and Jackson Merrill.
URL:https://omahathebatdog.com/appearance/omaha-the-bat-dog-at-the-lake-elsinore-storm-game-7-24-2026/
LOCATION:Lake Elsinore Diamond\, 500 Diamond Dr.\, Lake Elsinore\, CA\, 92530\, United States
CATEGORIES:Baseball Game,Lake Elsinore Storm
ATTACH;FMTTYPE=image/jpeg:https://omahathebatdog.com/wp-content/uploads/2026/04/Storm__Rawhide_Square.jpg
END:VEVENT
BEGIN:VEVENT
DTSTART;TZID=UTC:20260725T184500
DTEND;TZID=UTC:20260725T220000
DTSTAMP:20260423T232235
CREATED:20260419T200408Z
LAST-MODIFIED:20260419T200409Z
UID:795-1785005100-1785016800@omahathebatdog.com
SUMMARY:Omaha the Bat Dog at the Lake Elsinore Storm Game 7-25-2026
DESCRIPTION:Come see Omaha the Bat Dog at the Lake Elsinore Storm game 7-25-2026. Omaha the Bat Dog will retrieve bats for Lake Elsinore Storm players twice each inning. The Storm hosts the Visalia Rawhidethe Class-A affiliate of the Arizona Diamondbacks. \nOmaha the Bat Dog will retrieve bats on the first batted ball into play and the third out of the first through sixth or seventh innings. (If the third out is a strikeout\, caught stealing or a pick-off play\, Omaha will not retrieve that bat.) \nThe Lake Elsinore Storm have been the Minor League Baseball (MiLB) Class-A affiliate of the San Diego Padres since 2001. 2026 marks Omaha the Bat Dog’s second full season with the Lake Elsinore Storm as their official bat dog. \nThis long-standing partnership represents over two decades of player development in the California League. Some notable Storm alumni include Jake Peavy\, Chase Headley\, Corey Kluber and Jackson Merrill.
URL:https://omahathebatdog.com/appearance/omaha-the-bat-dog-at-the-lake-elsinore-storm-game-7-25-2026/
LOCATION:Lake Elsinore Diamond\, 500 Diamond Dr.\, Lake Elsinore\, CA\, 92530\, United States
CATEGORIES:Baseball Game,Lake Elsinore Storm
ATTACH;FMTTYPE=image/jpeg:https://omahathebatdog.com/wp-content/uploads/2026/04/Storm__Rawhide_Square.jpg
END:VEVENT
BEGIN:VEVENT
DTSTART;TZID=America/Los_Angeles:20260805T180500
DTEND;TZID=America/Los_Angeles:20260805T220000
DTSTAMP:20260423T232235
CREATED:20260419T202530Z
LAST-MODIFIED:20260419T203920Z
UID:800-1785953100-1785967200@omahathebatdog.com
SUMMARY:Omaha the Bat Dog at the Lake Elsinore Storm Game 8-5-2026
DESCRIPTION:Come see Omaha the Bat Dog at the Lake Elsinore Storm game 8-5-2026. Omaha the Bat Dog will retrieve bats for Lake Elsinore Storm players twice each inning. The Storm hosts the Ontario Tower Buzzers\, the Class-A affiliate of the Los Angeles Dodgers. \nOmaha the Bat Dog will retrieve bats on the first batted ball into play and the third out of the first through sixth or seventh innings. (If the third out is a strikeout\, caught stealing or a pick-off play\, Omaha will not retrieve that bat.) \nThe Lake Elsinore Storm have been the Minor League Baseball (MiLB) Class-A affiliate of the San Diego Padres since 2001. 2026 marks Omaha the Bat Dog’s second full season with the Lake Elsinore Storm as their official bat dog. \nThis long-standing partnership represents over two decades of player development in the California League. Some notable Storm alumni include Jake Peavy\, Chase Headley\, Corey Kluber and Jackson Merrill.
URL:https://omahathebatdog.com/appearance/omaha-the-bat-dog-at-the-lake-elsinore-storm-game-8-5-2026/
LOCATION:Lake Elsinore Diamond\, 500 Diamond Dr.\, Lake Elsinore\, CA\, 92530\, United States
CATEGORIES:Baseball Game,Lake Elsinore Storm
ATTACH;FMTTYPE=image/jpeg:https://omahathebatdog.com/wp-content/uploads/2026/04/Storm__Tower_Buzzers_Square.jpg
END:VEVENT
BEGIN:VEVENT
DTSTART;TZID=America/Los_Angeles:20260807T184500
DTEND;TZID=America/Los_Angeles:20260807T220000
DTSTAMP:20260423T232235
CREATED:20260419T203426Z
LAST-MODIFIED:20260419T204034Z
UID:803-1786128300-1786140000@omahathebatdog.com
SUMMARY:Omaha the Bat Dog at the Lake Elsinore Storm Game 8-7-2026
DESCRIPTION:Come see Omaha the Bat Dog at the Lake Elsinore Storm game 8-7-2026. Omaha the Bat Dog will retrieve bats for Lake Elsinore Storm players twice each inning. The Storm hosts the Ontario Tower Buzzers\, the Class-A affiliate of the Los Angeles Dodgers. \nOmaha the Bat Dog will retrieve bats on the first batted ball into play and the third out of the first through sixth or seventh innings. (If the third out is a strikeout\, caught stealing or a pick-off play\, Omaha will not retrieve that bat.) \nThe Lake Elsinore Storm have been the Minor League Baseball (MiLB) Class-A affiliate of the San Diego Padres since 2001. 2026 marks Omaha the Bat Dog’s second full season with the Lake Elsinore Storm as their official bat dog. \nThis long-standing partnership represents over two decades of player development in the California League. Some notable Storm alumni include Jake Peavy\, Chase Headley\, Corey Kluber and Jackson Merrill.
URL:https://omahathebatdog.com/appearance/omaha-the-bat-dog-at-the-lake-elsinore-storm-game-8-7-2026/
LOCATION:Lake Elsinore Diamond\, 500 Diamond Dr.\, Lake Elsinore\, CA\, 92530\, United States
CATEGORIES:Baseball Game,Lake Elsinore Storm
ATTACH;FMTTYPE=image/jpeg:https://omahathebatdog.com/wp-content/uploads/2026/04/Storm__Tower_Buzzers_Square.jpg
ORGANIZER;CN="OC Riptide":MAILTO:riptidebaseballoc@gmail.com
END:VEVENT
BEGIN:VEVENT
DTSTART;TZID=America/Los_Angeles:20260808T184500
DTEND;TZID=America/Los_Angeles:20260808T220000
DTSTAMP:20260423T232235
CREATED:20260419T204158Z
LAST-MODIFIED:20260419T204200Z
UID:805-1786214700-1786226400@omahathebatdog.com
SUMMARY:Omaha the Bat Dog at the Lake Elsinore Storm Game 8-8-2026
DESCRIPTION:Come see Omaha the Bat Dog at the Lake Elsinore Storm game 8-8-2026. Omaha the Bat Dog will retrieve bats for Lake Elsinore Storm players twice each inning. The Storm hosts the Ontario Tower Buzzers\, the Class-A affiliate of the Los Angeles Dodgers. \nOmaha the Bat Dog will retrieve bats on the first batted ball into play and the third out of the first through sixth or seventh innings. (If the third out is a strikeout\, caught stealing or a pick-off play\, Omaha will not retrieve that bat.) \nThe Lake Elsinore Storm have been the Minor League Baseball (MiLB) Class-A affiliate of the San Diego Padres since 2001. 2026 marks Omaha the Bat Dog’s second full season with the Lake Elsinore Storm as their official bat dog. \nThis long-standing partnership represents over two decades of player development in the California League. Some notable Storm alumni include Jake Peavy\, Chase Headley\, Corey Kluber and Jackson Merrill.
URL:https://omahathebatdog.com/appearance/omaha-the-bat-dog-at-the-lake-elsinore-storm-game-8-8-2026/
LOCATION:Lake Elsinore Diamond\, 500 Diamond Dr.\, Lake Elsinore\, CA\, 92530\, United States
CATEGORIES:Baseball Game,Lake Elsinore Storm
ATTACH;FMTTYPE=image/jpeg:https://omahathebatdog.com/wp-content/uploads/2026/04/Storm__Tower_Buzzers_Square.jpg
END:VEVENT
BEGIN:VEVENT
DTSTART;TZID=America/Los_Angeles:20260819T180500
DTEND;TZID=America/Los_Angeles:20260819T213000
DTSTAMP:20260423T232235
CREATED:20260419T205457Z
LAST-MODIFIED:20260419T205458Z
UID:810-1787162700-1787175000@omahathebatdog.com
SUMMARY:Omaha the Bat Dog at the Lake Elsinore Storm Game 8-19-2026
DESCRIPTION:Come see Omaha the Bat Dog at the Lake Elsinore Storm game 8-19-2026. Omaha the Bat Dog will retrieve bats for Lake Elsinore Storm players twice each inning. The Storm hosts the San Jose Giants\, the Class-A affiliate of the San Francisco Giants. \nOmaha the Bat Dog will retrieve bats on the first batted ball into play and the third out of the first through sixth or seventh innings. (If the third out is a strikeout\, caught stealing or a pick-off play\, Omaha will not retrieve that bat.) \nThe Lake Elsinore Storm have been the Minor League Baseball (MiLB) Class-A affiliate of the San Diego Padres since 2001. 2026 marks Omaha the Bat Dog’s second full season with the Lake Elsinore Storm as their official bat dog. \nThis long-standing partnership represents over two decades of player development in the California League. Some notable Storm alumni include Jake Peavy\, Chase Headley\, Corey Kluber and Jackson Merrill.
URL:https://omahathebatdog.com/appearance/omaha-the-bat-dog-at-the-lake-elsinore-storm-game-8-19-2026/
LOCATION:Lake Elsinore Diamond\, 500 Diamond Dr.\, Lake Elsinore\, CA\, 92530\, United States
CATEGORIES:Baseball Game,Lake Elsinore Storm
ATTACH;FMTTYPE=image/jpeg:https://omahathebatdog.com/wp-content/uploads/2026/04/Storm__Giants_Square.jpg
ORGANIZER;CN="OC Riptide":MAILTO:riptidebaseballoc@gmail.com
END:VEVENT
BEGIN:VEVENT
DTSTART;TZID=America/Los_Angeles:20260821T184500
DTEND;TZID=America/Los_Angeles:20260821T220000
DTSTAMP:20260423T232235
CREATED:20260419T210319Z
LAST-MODIFIED:20260419T210320Z
UID:812-1787337900-1787349600@omahathebatdog.com
SUMMARY:Omaha the Bat Dog at the Lake Elsinore Storm Game 8-21-2026
DESCRIPTION:Come see Omaha the Bat Dog at the Lake Elsinore Storm game 8-21-2026. Omaha the Bat Dog will retrieve bats for Lake Elsinore Storm players twice each inning. The Storm hosts the San Jose Giants\, the Class-A affiliate of the San Francisco Giants. \nOmaha the Bat Dog will retrieve bats on the first batted ball into play and the third out of the first through sixth or seventh innings. (If the third out is a strikeout\, caught stealing or a pick-off play\, Omaha will not retrieve that bat.) \nThe Lake Elsinore Storm have been the Minor League Baseball (MiLB) Class-A affiliate of the San Diego Padres since 2001. 2026 marks Omaha the Bat Dog’s second full season with the Lake Elsinore Storm as their official bat dog. \nThis long-standing partnership represents over two decades of player development in the California League. Some notable Storm alumni include Jake Peavy\, Chase Headley\, Corey Kluber and Jackson Merrill.
URL:https://omahathebatdog.com/appearance/omaha-the-bat-dog-at-the-lake-elsinore-storm-game-8-21-2026/
LOCATION:Lake Elsinore Diamond\, 500 Diamond Dr.\, Lake Elsinore\, CA\, 92530\, United States
CATEGORIES:Baseball Game,Lake Elsinore Storm
ATTACH;FMTTYPE=image/jpeg:https://omahathebatdog.com/wp-content/uploads/2026/04/Storm__Giants_Square.jpg
ORGANIZER;CN="OC Riptide":MAILTO:riptidebaseballoc@gmail.com
END:VEVENT
BEGIN:VEVENT
DTSTART;TZID=America/Los_Angeles:20260822T184500
DTEND;TZID=America/Los_Angeles:20260822T220000
DTSTAMP:20260423T232235
CREATED:20260419T211656Z
LAST-MODIFIED:20260419T211657Z
UID:814-1787424300-1787436000@omahathebatdog.com
SUMMARY:Omaha the Bat Dog at the Lake Elsinore Storm Game 8-22-2026
DESCRIPTION:Come see Omaha the Bat Dog at the Lake Elsinore Storm game 8-22-2026. Omaha the Bat Dog will retrieve bats for Lake Elsinore Storm players twice each inning. The Storm hosts the San Jose Giants\, the Class-A affiliate of the San Francisco Giants. \nOmaha the Bat Dog will retrieve bats on the first batted ball into play and the third out of the first through sixth or seventh innings. (If the third out is a strikeout\, caught stealing or a pick-off play\, Omaha will not retrieve that bat.) \nThe Lake Elsinore Storm have been the Minor League Baseball (MiLB) Class-A affiliate of the San Diego Padres since 2001. 2026 marks Omaha the Bat Dog’s second full season with the Lake Elsinore Storm as their official bat dog. \nThis long-standing partnership represents over two decades of player development in the California League. Some notable Storm alumni include Jake Peavy\, Chase Headley\, Corey Kluber and Jackson Merrill.
URL:https://omahathebatdog.com/appearance/omaha-the-bat-dog-at-the-lake-elsinore-storm-game-8-22-2026/
LOCATION:Lake Elsinore Diamond\, 500 Diamond Dr.\, Lake Elsinore\, CA\, 92530\, United States
CATEGORIES:Baseball Game,Lake Elsinore Storm
ATTACH;FMTTYPE=image/jpeg:https://omahathebatdog.com/wp-content/uploads/2026/04/Storm__Giants_Square.jpg
END:VEVENT
BEGIN:VEVENT
DTSTART;TZID=America/Los_Angeles:20260823T180500
DTEND;TZID=America/Los_Angeles:20260823T210000
DTSTAMP:20260423T232235
CREATED:20260419T213426Z
LAST-MODIFIED:20260419T213427Z
UID:816-1787508300-1787518800@omahathebatdog.com
SUMMARY:Lake Elsinore Storm Omaha the Bat Dog Squishy Pillow Giveaway
DESCRIPTION:Come to the Lake Elsinore Storm Omaha the Bat Dog Squishy Pillow Giveaway Game! Arrive early to get your very own Omaha the Bat Dog Squishy Pillow presented by Thunder Cares. Quantities limited and available while supplies last.  \nOmaha the Bat Dog will also appear at the Lake Elsinore Storm game 8-23-2026. Omaha the Bat Dog will retrieve bats for Lake Elsinore Storm players twice each inning. The Storm hosts the San Jose Giants\, the Class-A affiliate of the San Francisco Giants. \nOmaha the Bat Dog will retrieve bats on the first batted ball into play and the third out of the first through sixth or seventh innings. (If the third out is a strikeout\, caught stealing or a pick-off play\, Omaha will not retrieve that bat.) \nThe Lake Elsinore Storm have been the Minor League Baseball (MiLB) Class-A affiliate of the San Diego Padres since 2001. 2026 marks Omaha the Bat Dog’s second full season with the Lake Elsinore Storm as their official bat dog. \nThis long-standing partnership represents over two decades of player development in the California League. Some notable Storm alumni include Jake Peavy\, Chase Headley\, Corey Kluber and Jackson Merrill.
URL:https://omahathebatdog.com/appearance/lake-elsinore-storm-omaha-the-bat-dog-squishy-pillow-giveaway/
LOCATION:Lake Elsinore Diamond\, 500 Diamond Dr.\, Lake Elsinore\, CA\, 92530\, United States
CATEGORIES:Baseball Game,Lake Elsinore Storm
ATTACH;FMTTYPE=image/png:https://omahathebatdog.com/wp-content/uploads/2026/04/Omaha_the_Bat_Dog_Squishy_Pillow_350.png
END:VEVENT
BEGIN:VEVENT
DTSTART;TZID=America/Los_Angeles:20260902T180500
DTEND;TZID=America/Los_Angeles:20260902T220000
DTSTAMP:20260423T232235
CREATED:20260419T214301Z
LAST-MODIFIED:20260419T214302Z
UID:819-1788372300-1788386400@omahathebatdog.com
SUMMARY:Omaha the Bat Dog at the Lake Elsinore Storm Game 9-2-2026
DESCRIPTION:Come see Omaha the Bat Dog at the Lake Elsinore Storm game 9-2-2026. Omaha the Bat Dog will retrieve bats for Lake Elsinore Storm players twice each inning. The Storm hosts the Inland Empire 66ers\, the Class-A affiliate of the Seattle Mariners. \nOmaha the Bat Dog will retrieve bats on the first batted ball into play and the third out of the first through sixth or seventh innings. (If the third out is a strikeout\, caught stealing or a pick-off play\, Omaha will not retrieve that bat.) \nThe Lake Elsinore Storm have been the Minor League Baseball (MiLB) Class-A affiliate of the San Diego Padres since 2001. 2026 marks Omaha the Bat Dog’s second full season with the Lake Elsinore Storm as their official bat dog. \nThis long-standing partnership represents over two decades of player development in the California League. Some notable Storm alumni include Jake Peavy\, Chase Headley\, Corey Kluber and Jackson Merrill.
URL:https://omahathebatdog.com/appearance/omaha-the-bat-dog-at-the-lake-elsinore-storm-game-9-2-2026/
LOCATION:Lake Elsinore Diamond\, 500 Diamond Dr.\, Lake Elsinore\, CA\, 92530\, United States
CATEGORIES:Baseball Game,Lake Elsinore Storm
ATTACH;FMTTYPE=image/jpeg:https://omahathebatdog.com/wp-content/uploads/2026/04/Storm__66ers_Square.jpg
ORGANIZER;CN="OC Riptide":MAILTO:riptidebaseballoc@gmail.com
END:VEVENT
BEGIN:VEVENT
DTSTART;TZID=UTC:20260904T184500
DTEND;TZID=UTC:20260904T220000
DTSTAMP:20260423T232235
CREATED:20260419T214858Z
LAST-MODIFIED:20260419T214859Z
UID:821-1788547500-1788559200@omahathebatdog.com
SUMMARY:Omaha the Bat Dog at the Lake Elsinore Storm Game 9-4-2026
DESCRIPTION:Come see Omaha the Bat Dog at the Lake Elsinore Storm game 9-4-2026. Omaha the Bat Dog will retrieve bats for Lake Elsinore Storm players twice each inning. The Storm hosts the Inland Empire 66ers\, the Class-A affiliate of the Seattle Mariners. \nOmaha the Bat Dog will retrieve bats on the first batted ball into play and the third out of the first through sixth or seventh innings. (If the third out is a strikeout\, caught stealing or a pick-off play\, Omaha will not retrieve that bat.) \nThe Lake Elsinore Storm have been the Minor League Baseball (MiLB) Class-A affiliate of the San Diego Padres since 2001. 2026 marks Omaha the Bat Dog’s second full season with the Lake Elsinore Storm as their official bat dog. \nThis long-standing partnership represents over two decades of player development in the California League. Some notable Storm alumni include Jake Peavy\, Chase Headley\, Corey Kluber and Jackson Merrill.
URL:https://omahathebatdog.com/appearance/omaha-the-bat-dog-at-the-lake-elsinore-storm-game-9-4-2026/
LOCATION:Lake Elsinore Diamond\, 500 Diamond Dr.\, Lake Elsinore\, CA\, 92530\, United States
CATEGORIES:Baseball Game,Lake Elsinore Storm
ATTACH;FMTTYPE=image/jpeg:https://omahathebatdog.com/wp-content/uploads/2026/04/Storm__66ers_Square.jpg
ORGANIZER;CN="OC Riptide":MAILTO:riptidebaseballoc@gmail.com
END:VEVENT
BEGIN:VEVENT
DTSTART;TZID=America/Los_Angeles:20260905T184500
DTEND;TZID=America/Los_Angeles:20260905T220000
DTSTAMP:20260423T232235
CREATED:20260419T215321Z
LAST-MODIFIED:20260419T215323Z
UID:823-1788633900-1788645600@omahathebatdog.com
SUMMARY:Omaha the Bat Dog at the Lake Elsinore Storm Game 9-5-2026
DESCRIPTION:Come see Omaha the Bat Dog at the Lake Elsinore Storm game 9-5-2026. Omaha the Bat Dog will retrieve bats for Lake Elsinore Storm players twice each inning. The Storm hosts the Inland Empire 66ers\, the Class-A affiliate of the Seattle Mariners. \nOmaha the Bat Dog will retrieve bats on the first batted ball into play and the third out of the first through sixth or seventh innings. (If the third out is a strikeout\, caught stealing or a pick-off play\, Omaha will not retrieve that bat.) \nThe Lake Elsinore Storm have been the Minor League Baseball (MiLB) Class-A affiliate of the San Diego Padres since 2001. 2026 marks Omaha the Bat Dog’s second full season with the Lake Elsinore Storm as their official bat dog. \nThis long-standing partnership represents over two decades of player development in the California League. Some notable Storm alumni include Jake Peavy\, Chase Headley\, Corey Kluber and Jackson Merrill.
URL:https://omahathebatdog.com/appearance/omaha-the-bat-dog-at-the-lake-elsinore-storm-game-9-5-2026/
LOCATION:Lake Elsinore Diamond\, 500 Diamond Dr.\, Lake Elsinore\, CA\, 92530\, United States
CATEGORIES:Baseball Game,Lake Elsinore Storm
ATTACH;FMTTYPE=image/jpeg:https://omahathebatdog.com/wp-content/uploads/2026/04/Storm__66ers_Square.jpg
END:VEVENT
END:VCALENDAR